BEGIN:VCALENDAR
VERSION:2.0
PRODID:-//Library Market//iCal Export//EN
BEGIN:VEVENT
SUMMARY:Local Author Book Signing
UID:36141
DTSTAMP:20260420T154900Z
DTSTART:20250920T180000Z
DTEND:20250920T200000Z
LOCATION:Quincy Public Library, 526 Jersey St., Quincy, IL 62301, United S
 tates
ROOM: Small Conference Room
DESCRIPTION:Local author, Ty Vaughan, author of Vulnerability: Short Stori
 es and my Inner Thoughts book signing
URL:https://www.quincylibrary.org/event/local-author-book-signing-36141
END:VEVENT
END:VCALENDAR
