BEGIN:VCALENDAR
VERSION:2.0
PRODID:-//Library Market//iCal Export//EN
BEGIN:VEVENT
SUMMARY:Executive Director Search Committee Meeting
UID:41769
DTSTAMP:20260420T202200Z
DTSTART:20260422T183000Z
DTEND:20260422T193000Z
LOCATION:Quincy Public Library, 526 Jersey St., Quincy, IL 62301, United S
 tates
ROOM: Small Conference Room
DESCRIPTION:
URL:https://www.quincylibrary.org/event/executive-director-search-committe
 e-meeting-41769
END:VEVENT
END:VCALENDAR
