BEGIN:VCALENDAR
VERSION:2.0
PRODID:-//Library Market//iCal Export//EN
BEGIN:VEVENT
SUMMARY:Lorenzo Bull House - Dogwood Parade &amp; Party Festival
UID:41793
DTSTAMP:20260419T202400Z
DTSTART:20260502T180000Z
DTEND:20260502T210000Z
LOCATION:Lorenzo Bull House, 1550 Maine Street, Quincy , IL 62301, United 
 States
ROOM: Lorenzo Bull House - Dogwood Parade &amp; Party Festival
DESCRIPTION:Come cheer on the Quincy Public Library during the Dogwood Par
 ade and then join us after the parade at the Lorenzo Bull House to Experie
 nce the Library for yourself!  
URL:https://www.quincylibrary.org/event/lorenzo-bull-house-dogwood-parade-
 party-festival-41793
END:VEVENT
END:VCALENDAR
