BEGIN:VCALENDAR
VERSION:2.0
PRODID:-//Library Market//iCal Export//EN
BEGIN:VEVENT
SUMMARY:7th Grade Tour Foster
UID:41858
DTSTAMP:20260425T184300Z
DTSTART:20260428T174500Z
DTEND:20260428T184500Z
LOCATION:Quincy Public Library, 526 Jersey St., Quincy, IL 62301, United S
 tates
ROOM: 7th Grade Tour Foster
DESCRIPTION:
URL:https://www.quincylibrary.org/event/7th-grade-tour-foster-41858
END:VEVENT
END:VCALENDAR
